BEGIN:VCALENDAR
VERSION:2.0
PRODID:Events Booking
BEGIN:VEVENT
UID:69e9311d0785d
SUMMARY:Jersey Curlz Bonspiel
DESCRIPTION:
 
 
 
 PLAINFIELD’S COMPETITIVE BONSPIEL FOR WOMEN (AGES
  21 AND UP)
 
 
 
 
 
 
 
 
 Started in 2017\, Jersey Curlz is Pl
 ainfield’s competitive women’s bonspiel and is a USWCA circuit event.
 
 &nbsp\;
 
 Pool play format with cash prizes
 $380 rink fee
 4-game 
 guarantee
 Leads competition
 Massages\, Warm Room games\, and more!
 
 
 &nbsp\;
 Registration Closes:&nbsp\; Friday January 28th\, 2022
 &nbsp
 \;
 **IMPORTANT - PLEASE READ** &nbsp\;All registrants will initially be 
 placed on a Waitlist. &nbsp\;Once registration closes\, if there are more 
 than (16) teams\, a lottery will be conducted to determine the teams that 
 have been selected. &nbsp\;If your team is selected\, you will receive an 
 email to make payment.
 
 
 
 
LOCATION:133 McKinley Street /  South Plainfield\, NJ 07080
DTSTART:20220224T220000Z
DTEND:20220227T210000Z
DTSTAMP:20211229T192646Z
ORGANIZER;CN=Plainfield Curling Club:MAILTO:do-not-reply@njcurling.org
GEO:40.555624;-74.412555
X-APPLE-STRUCTURED-LOCATION;VALUE=URI;X-ADDRESS=133 McKinley Street /  Sout
 h Plainfield\, NJ 07080;X-APPLE-RADIUS=72;X-TITLE=Plainfield Curling Club:
 40.555624;-74.412555
END:VEVENT
END:VCALENDAR