BEGIN:VCALENDAR
VERSION:2.0
PRODID:Events Booking
BEGIN:VEVENT
UID:69e9471b4a52a
SUMMARY:The Acient Olympigs Bonsqueal
DESCRIPTION:The Acient Olympigs Bonsquel
 &nbsp\;
 
 Entry Fee: $440.00 
 per/team
 Number of Teams: 32 Teams (16 PCC Teams / 16 Outside Teams)
 3
  Games Guaranteed
 Six (6) End Games
 Format: Open
 Legendary Pig Roast
  and Epic Fish Fry
 Friday Night Event:&nbsp\; TBD
 Saturday Night Event
 :&nbsp\; TBD
 
 &nbsp\;Contact:&nbsp\;bonsqueal@njcurling.org&nbsp\; (Be
 verly Wiedemann)
 &nbsp\;
 **IMPORTANT - PLEASE READ** &nbsp\;All regist
 rants will initially be placed on a Waitlist.&nbsp\; Once registration clo
 ses\, if there are more than (32) teams\, a lottery will be conducted to d
 etermine the teams that have been selected.&nbsp\; If your team is selecte
 d\, you will receive an email to make payment.
LOCATION:133 McKinley Street /  South Plainfield\, NJ 07080
DTSTART:20260415T040000Z
DTEND:20260420T040000Z
DTSTAMP:20220114T195729Z
ORGANIZER;CN=Plainfield Curling Club:MAILTO:do-not-reply@njcurling.org
GEO:40.555624;-74.412555
X-APPLE-STRUCTURED-LOCATION;VALUE=URI;X-ADDRESS=133 McKinley Street /  Sout
 h Plainfield\, NJ 07080;X-APPLE-RADIUS=72;X-TITLE=Plainfield Curling Club:
 40.555624;-74.412555
END:VEVENT
END:VCALENDAR