BEGIN:VCALENDAR
VERSION:2.0
PRODID:Events Booking
BEGIN:VEVENT
UID:69e94720a0378
SUMMARY:Jersey Curlz Women's Bonspiel 2026
DESCRIPTION:
 
 
 
 PLAINFIELD’S BONSPIEL FOR WOMEN
 Started in 2017
 \, Jersey Curlz is our annual women’s bonspiel
 We acknowledge and appr
 eciate that gender is a spectrum\, not a binary. If woman is part of your 
 gender identity or expression\, you are welcome at this bonspiel.&nbsp\;

  
 
 
 
 
 
 
 
 &nbsp\;
 
 
 Details:
 
 Entry Fee: $440.00 
 per/team
 4 Events / 3 Game Guarantee
 All Meals Included
 
 
 
 &nb
 sp\;
 
 Registration Closes:&nbsp\; Registration still open for a few mo
 re teams to register.&nbsp\; Once we reach the limit of 16 teams\, we will
  close registration.
 
 &nbsp\;
 **IMPORTANT - PLEASE READ** &nbsp\;All
  registrants will initially be placed on a Waitlist. &nbsp\;Once registrat
 ion closes\, if there are more than (16) teams\, a lottery will be conduct
 ed to determine the teams that have been selected. &nbsp\;If your team is 
 selected\, you will receive an email to make payment.
 
 
 
 
LOCATION:133 McKinley Street /  South Plainfield\, NJ 07080
DTSTART:20260327T040000Z
DTEND:20260330T040000Z
DTSTAMP:20211229T192646Z
ORGANIZER;CN=Plainfield Curling Club:MAILTO:do-not-reply@njcurling.org
GEO:40.555624;-74.412555
X-APPLE-STRUCTURED-LOCATION;VALUE=URI;X-ADDRESS=133 McKinley Street /  Sout
 h Plainfield\, NJ 07080;X-APPLE-RADIUS=72;X-TITLE=Plainfield Curling Club:
 40.555624;-74.412555
END:VEVENT
END:VCALENDAR