BEGIN:VCALENDAR
VERSION:2.0
PRODID:Events Booking
BEGIN:VEVENT
UID:69e95ec3349d2
SUMMARY:The Bucket Friendly
DESCRIPTION:
LOCATION:133 McKinley Street /  South Plainfield\, NJ 07080
DTSTART:20241208T050000Z
DTEND:20241209T045500Z
DTSTAMP:20240926T000818Z
ORGANIZER;CN=Plainfield Curling Club:MAILTO:do-not-reply@njcurling.org
GEO:40.555624;-74.412555
X-APPLE-STRUCTURED-LOCATION;VALUE=URI;X-ADDRESS=133 McKinley Street /  Sout
 h Plainfield\, NJ 07080;X-APPLE-RADIUS=72;X-TITLE=Plainfield Curling Club:
 40.555624;-74.412555
END:VEVENT
END:VCALENDAR