BEGIN:VCALENDAR
VERSION:2.0
PRODID:Events Booking
BEGIN:VEVENT
UID:69e95e78f3f7c
SUMMARY:MACA - Plainfield Leg
DESCRIPTION:2024/2025 MACA - PCC Leg
 &nbsp\;
 
 Game times are&nbsp\;9:
 00am\, 10:45am\, 12:30pm\, 2:15pm.&nbsp\; All games are 6 ends\, with posi
 tions rotating throughout the game.&nbsp\; We are aiming to be off the ice
  by 4:00pm for our Saturday night league.
 Curlers will play two games: e
 ither the 9:00am &amp\; 12:30pm games\, or the 10:45am and 2:15pm games.&n
 bsp\; Please indicate your preference in the notes when registering\, alth
 ough understand that we may not be able to accommodate everyone's preferen
 ce due to capacity and team randomization.
 Teams will be drawn randomly.
 
 Entry is $20 and can be paid through curling club manager.
 Light brea
 kfast fare &amp\; lunch will be included\, and the bar will be available f
 or drink purchases.&nbsp\; If you have dietary needs\, please put them in 
 the notes when registering so we can plan accordingly.
 
 &nbsp\;
 **IM
 PORTANT - PLEASE READ** &nbsp\;All registrants will initially be placed on
  a Waitlist. &nbsp\;Once registration closes\, if there are more than (32)
  players\, a lottery will be conducted to determine the players/teams that
  have been selected. &nbsp\;If you or your team has been selected\, you wi
 ll receive an email to make payment.
LOCATION:133 McKinley Street /  South Plainfield\, NJ 07080
DTSTART:20241123T130000Z
DTEND:20241123T220000Z
DTSTAMP:20240923T035248Z
ORGANIZER;CN=Plainfield Curling Club:MAILTO:do-not-reply@njcurling.org
GEO:40.555624;-74.412555
X-APPLE-STRUCTURED-LOCATION;VALUE=URI;X-ADDRESS=133 McKinley Street /  Sout
 h Plainfield\, NJ 07080;X-APPLE-RADIUS=72;X-TITLE=Plainfield Curling Club:
 40.555624;-74.412555
END:VEVENT
END:VCALENDAR