BEGIN:VCALENDAR
VERSION:2.0
PRODID:Events Booking
BEGIN:VEVENT
UID:69e9609d782d0
SUMMARY:Keg Curling - 2024
DESCRIPTION:He’s BAAAAAAAAACK Down off the shelf\, Cleaned\, Oiled and Bu
 ffed and always ready for action.
 The 9th Annual PCC Keg Curling World C
 hampionship 4-27-24. First draw starts at Noon.
 Big WOODY is up\, awake\
 , and he wants to put a smile on your face!
 Which of the 24 teams of Two
  keggers will rise to the challenge as the pressure mounts and ultimately 
 culminate with the pleasure of holding Big Woody in the palms of their han
 ds and holding him over their heads as these champions are covered in glor
 y as they are CROWNED\,
 PCC Keg Curling World Champion
 24 Teams of 2 w
 ill take part in this epic journey on 4-27-24 but spectators are always we
 lcome to cheer (or heckle) their friends as we close out the PCC curling s
 eason.
 It is that time of year again. Yes\, that's right\, the 2024 Keg 
 Curling Championships are back at the PCC. Are you ready for some action? 
 Big Woody\, and his new friend Little Chub haven't seen any action since l
 ast year and they are brimming with excitement\, filled with enthusiasm an
 d waiting to spread the joy on 4/27/24.
 The Keg Curling sign-up sheet is
  now on line on the PCC site.&nbsp\; Big Woody and Little Chub want you to
  get a firm grip on your mouse and sign up. Spots fill up fast (24 teams o
 f two). There is a waiting list as well. Hope you can make it to the club 
 for a fun filled day.
 &nbsp\;
DTSTART:20240427T160000Z
DTEND:20240427T220000Z
DTSTAMP:20230621T200710Z
ORGANIZER;CN=Plainfield Curling Club:MAILTO:do-not-reply@njcurling.org
END:VEVENT
END:VCALENDAR