BEGIN:VCALENDAR
VERSION:2.0
PRODID:Events Booking
BEGIN:VEVENT
UID:69e96127cd66e
SUMMARY:The James Boar 007 Bonsqueal
DESCRIPTION:Better go to Q division to get all the gadgets for your next mi
 ssion!
 &nbsp\;
 Rink Fee:&nbsp\; $440.00
 3-Game Guarantee
 6-End Gam
 es
 Legendary Pig Roast and Epic Fish Fry
 Karaoke and DJ
 &nbsp\;
 **
 IMPORTANT - PLEASE READ** &nbsp\;All registrants will initially be placed 
 on a Waitlist.&nbsp\; Once registration closes\, if there are more than (3
 2) teams\, a lottery will be conducted to determine the teams that have be
 en selected.&nbsp\; If your team is selected\, you will receive an email t
 o make payment.
LOCATION:133 McKinley Street /  South Plainfield\, NJ 07080
DTSTART:20240417T040000Z
DTEND:20240422T040000Z
DTSTAMP:20220114T195729Z
ORGANIZER;CN=Plainfield Curling Club:MAILTO:do-not-reply@njcurling.org
GEO:40.555624;-74.412555
X-APPLE-STRUCTURED-LOCATION;VALUE=URI;X-ADDRESS=133 McKinley Street /  Sout
 h Plainfield\, NJ 07080;X-APPLE-RADIUS=72;X-TITLE=Plainfield Curling Club:
 40.555624;-74.412555
END:VEVENT
END:VCALENDAR