BEGIN:VCALENDAR
VERSION:2.0
PRODID:Events Booking
BEGIN:VEVENT
UID:69e961d306541
SUMMARY:Mid-Atlantic Women's Bonspiel
DESCRIPTION:Plainfield CC is pleased to host the 
 2023 Women’s Mid-Atla
 ntic Bonspiel
  October 12th&nbsp\;thru 15th\, 2023 Four Events / 3-Game 
 Guarantee
 &nbsp\;
 &nbsp\;
 Registration Opens: August 15th\, 2023
 R
 egistration Closes: August 29th\, 2023
LOCATION:133 McKinley Street /  South Plainfield\, NJ 07080
DTSTART:20231012T040000Z
DTEND:20231015T220000Z
DTSTAMP:20230607T215914Z
ORGANIZER;CN=Plainfield Curling Club:MAILTO:do-not-reply@njcurling.org
GEO:40.555624;-74.412555
X-APPLE-STRUCTURED-LOCATION;VALUE=URI;X-ADDRESS=133 McKinley Street /  Sout
 h Plainfield\, NJ 07080;X-APPLE-RADIUS=72;X-TITLE=Plainfield Curling Club:
 40.555624;-74.412555
END:VEVENT
END:VCALENDAR