BEGIN:VCALENDAR
VERSION:2.0
PRODID:Events Booking
BEGIN:VEVENT
UID:69e9621240457
SUMMARY:The Porkade Bonsqueal
DESCRIPTION:Long has the saga of the Bonsqueal been told. Mighty curlers fr
 om far and wide have crossed seas and braved turnpike traffic to be part o
 f a bonspiel that offers food and merriment unmatched by any in Midgard (o
 r the GNCC).
 Join us as we voyage into a new age of Bonsqueal. For this 
 April we feast and drink (and curl) in…Porkade!
 &nbsp\;
 
 $440 Rink
  Fee
 3-Game Guarantee
 Legendary Pig Roast and Epic Fish Fry
 Karaoke 
 and DJ
 
 &nbsp\;
 **IMPORTANT - PLEASE READ** &nbsp\;All registrants w
 ill initially be placed on a Waitlist.&nbsp\; Once registration closes\, i
 f there are more than (32) teams\, a lottery will be conducted to determin
 e the teams that have been selected.&nbsp\; If your team is selected\, you
  will receive an email to make payment.
LOCATION:133 McKinley Street /  South Plainfield\, NJ 07080
DTSTART:20230419T210000Z
DTEND:20230423T220000Z
DTSTAMP:20220114T195729Z
ORGANIZER;CN=Plainfield Curling Club:MAILTO:do-not-reply@njcurling.org
GEO:40.555624;-74.412555
X-APPLE-STRUCTURED-LOCATION;VALUE=URI;X-ADDRESS=133 McKinley Street /  Sout
 h Plainfield\, NJ 07080;X-APPLE-RADIUS=72;X-TITLE=Plainfield Curling Club:
 40.555624;-74.412555
END:VEVENT
END:VCALENDAR