BEGIN:VCALENDAR
VERSION:2.0
PRODID:Events Booking
BEGIN:VEVENT
UID:69e961867cd42
SUMMARY:Jersey Curlz Bonspiel - Spring - 2023
DESCRIPTION:
 
 
 
 PLAINFIELD’S COMPETITIVE BONSPIEL FOR WOMEN (AGES
  21 AND UP)
 
 
 
 
 
 
 
 
 Started in 2017\, Jersey Curlz is Pl
 ainfield’s competitive women’s bonspiel and is a USWCA circuit event.
 
 &nbsp\;
 
 Pool play format with cash prizes
 $400 rink fee per/team
 
 3-game guarantee
 Leads competition
 Beer Tasting Flight
 Massages\, 
 Warm Room games\, and more!
 Cash Prizes
 
 &nbsp\;
 Registration Clos
 es:&nbsp\; 10/15/2023
 &nbsp\;
 **IMPORTANT - PLEASE READ** &nbsp\;All r
 egistrants will initially be placed on a Waitlist. &nbsp\;Once registratio
 n closes\, if there are more than (16) teams\, a lottery will be conducted
  to determine the teams that have been selected. &nbsp\;If your team is se
 lected\, you will receive an email to make payment.
 
 
 
 
LOCATION:133 McKinley Street /  South Plainfield\, NJ 07080
DTSTART:20230209T220000Z
DTEND:20230212T210000Z
DTSTAMP:20211229T192646Z
ORGANIZER;CN=Plainfield Curling Club:MAILTO:do-not-reply@njcurling.org
GEO:40.555624;-74.412555
X-APPLE-STRUCTURED-LOCATION;VALUE=URI;X-ADDRESS=133 McKinley Street /  Sout
 h Plainfield\, NJ 07080;X-APPLE-RADIUS=72;X-TITLE=Plainfield Curling Club:
 40.555624;-74.412555
END:VEVENT
END:VCALENDAR