BEGIN:VCALENDAR
VERSION:2.0
PRODID:Events Booking
BEGIN:VEVENT
UID:69e962543e680
SUMMARY:Robbie Burns Thrifty Bonspiel 2023
DESCRIPTION:Registration opens December 10th at 12 noon. All teams will be 
 placed on a wait list. We will be selecting 20 teams for this bonspiel by 
 way of a random lottery. If your team is selected in the lottery\, you'll 
 receive an email with payment information. Slots will be reserved for non-
 Plainfield teams (A Plainfield Team is defined as a team that has 2 or mor
 e players with active Plainfield memberships).
 If you have any questions
 \, please send an email to thrifty@njcurling.org.
 &nbsp\;
LOCATION:133 McKinley Street /  South Plainfield\, NJ 07080
DTSTART:20230119T230000Z
DTEND:20230122T210000Z
DTSTAMP:20211204T180954Z
ORGANIZER;CN=Plainfield Curling Club:MAILTO:do-not-reply@njcurling.org
GEO:40.555624;-74.412555
X-APPLE-STRUCTURED-LOCATION;VALUE=URI;X-ADDRESS=133 McKinley Street /  Sout
 h Plainfield\, NJ 07080;X-APPLE-RADIUS=72;X-TITLE=Plainfield Curling Club:
 40.555624;-74.412555
END:VEVENT
END:VCALENDAR