BEGIN:VCALENDAR
VERSION:2.0
PRODID:Events Booking
BEGIN:VEVENT
UID:69e96167b67d1
SUMMARY:The Founder's Bonspiel-2022
DESCRIPTION:&nbsp\;
 
 **IMPORTANT - PLEASE READ** &nbsp\;
 All registra
 nts will initially be placed on a Waitlist. &nbsp\;Once registration close
 s\, if there are more than (16) teams\, a lottery will be conducted to det
 ermine the teams that have been selected. &nbsp\;If your team is selected\
 , you will receive an email to make payment. &nbsp\;If you have any questi
 ons\, please send an email to founders@njcurling.org
LOCATION:133 McKinley Street /  South Plainfield\, NJ 07080
DTSTART:20221103T223000Z
DTEND:20221106T210000Z
DTSTAMP:20260422T200143Z
ORGANIZER;CN=Plainfield Curling Club:MAILTO:do-not-reply@njcurling.org
GEO:40.555624;-74.412555
X-APPLE-STRUCTURED-LOCATION;VALUE=URI;X-ADDRESS=133 McKinley Street /  Sout
 h Plainfield\, NJ 07080;X-APPLE-RADIUS=72;X-TITLE=Plainfield Curling Club:
 40.555624;-74.412555
END:VEVENT
END:VCALENDAR