BEGIN:VCALENDAR
VERSION:2.0
PRODID:Events Booking
BEGIN:VEVENT
UID:69e950ef83fe8
SUMMARY:The Turnpike Challenge - 2026 Exit 10 Edition
DESCRIPTION:Who:&nbsp\;Any 5 and Under Curler!
 Where: Plainfield Curling 
 Club\, NJ
 When: Sunday February 15th\, 2026
  Time: 9:00 am – 4:00 pm
  First Draw 10:00 am / Second Draw 1:30 pm&nbsp\; &nbsp\; &nbsp\; &nbsp\; 
 &nbsp\; &nbsp\; &nbsp\; &nbsp\; &nbsp\; &nbsp\;
 ENTRY FEE: $35.00 per/pl
 ayer
 Scoring Format:&nbsp\; MACA scoring\, Rotate Positions every two (2
 ) ends
 Includes a pre-game breakfast\, snacks and a between-draws lunch 
 
 &nbsp\;
 **Please Read**. Registration will consist of eight (8) playe
 rs from each club.&nbsp\; When registering\, please select the club you ar
 e playing for in the registration form.&nbsp\; Once 8 players from each cl
 ub register\, your club will no longer be displayed.&nbsp\; Once all 16 sp
 ots are filled up\, you can add your name to the waitlist.
LOCATION:133 McKinley Street /  South Plainfield\, NJ 07080
DTSTART:20260215T140000Z
DTEND:20260215T210000Z
DTSTAMP:20240401T184445Z
ORGANIZER;CN=Plainfield Curling Club:MAILTO:do-not-reply@njcurling.org
GEO:40.555624;-74.412555
X-APPLE-STRUCTURED-LOCATION;VALUE=URI;X-ADDRESS=133 McKinley Street /  Sout
 h Plainfield\, NJ 07080;X-APPLE-RADIUS=72;X-TITLE=Plainfield Curling Club:
 40.555624;-74.412555
END:VEVENT
END:VCALENDAR