BEGIN:VCALENDAR
VERSION:2.0
PRODID:Events Booking
BEGIN:VEVENT
UID:69e93a1fee322
SUMMARY:The Bridge Friendly - 2025
DESCRIPTION:Registration will consist of eight (8) players from each club.&
 nbsp\; When registering\, please select the club you are playing for in th
 e registration form.&nbsp\; Once 8 players from each club have registered\
 , your club name will no longer be displayed.&nbsp\; Once all 16 spots are
  filled up\, you can add your name to the waitlist.
LOCATION:133 McKinley Street /  South Plainfield\, NJ 07080
DTSTART:20251122T130000Z
DTEND:20251122T210000Z
DTSTAMP:20240401T184445Z
ORGANIZER;CN=Plainfield Curling Club:MAILTO:do-not-reply@njcurling.org
GEO:40.555624;-74.412555
X-APPLE-STRUCTURED-LOCATION;VALUE=URI;X-ADDRESS=133 McKinley Street /  Sout
 h Plainfield\, NJ 07080;X-APPLE-RADIUS=72;X-TITLE=Plainfield Curling Club:
 40.555624;-74.412555
END:VEVENT
END:VCALENDAR