BEGIN:VCALENDAR
VERSION:2.0
PRODID:Events Booking
BEGIN:VEVENT
UID:69e8eb28ed98a
SUMMARY:Keg Curling - 2026
DESCRIPTION:He’s BAAAAAAAAACK Down off the shelf\, Cleaned\, Oiled and Bu
 ffed and always ready for action.
 The 10th Annual PCC Keg Curling World 
 Championship will take place on Saturday 04/25/2026. First draw starts at 
 Noon.
 Big WOODY is up\, awake\, and he wants to put a smile on your face
 !
 Which of the 24 teams of Two Keggers will rise to the challenge as the
  pressure mounts and ultimately culminate with the pleasure of holding Big
  Woody in the palms of their hands and holding him over their heads as the
 se champions are covered in glory as they are CROWNED\,
 PCC Keg Curling 
 World Champion
 24 Teams of 2 will take part in this epic journey on 04/2
 5/2026 but spectators are always welcome to cheer (or heckle) their friend
 s as we close out the PCC curling season.
 It is that time of year again.
  Yes\, that's right\, the 2026 Keg Curling Championships are back at the P
 CC. Are you ready for some action? Big Woody\, and his new friend Little C
 hub haven't seen any action since last year and they are brimming with exc
 itement\, filled with enthusiasm and waiting to spread the joy on 04/25/20
 26.
 The Keg Curling sign-up sheet is now on line on the PCC site.&nbsp\;
  Big Woody and Little Chub want you to get a firm grip on your mouse and s
 ign up. Spots fill up fast (24 teams of two). There is a waiting list as w
 ell. Hope you can make it to the club for a fun filled day.
 &nbsp\;
DTSTART:20260425T160000Z
DTEND:20260425T210000Z
DTSTAMP:20230621T200710Z
ORGANIZER;CN=Plainfield Curling Club:MAILTO:do-not-reply@njcurling.org
END:VEVENT
END:VCALENDAR