BEGIN:VCALENDAR
VERSION:2.0
PRODID:Events Booking
BEGIN:VEVENT
UID:69e6d69b4f332
SUMMARY:The P.C.C. Stone Bonspiel - 2026
DESCRIPTION:Plainfield Curling Club’s Premier Men's Spiel!&nbsp\;
 Our a
 nnual men’s cashspiel\, named&nbsp\;after Peter C. Christofferson\, the 
 father of one of the club’s founding members\, Ken Christofferson.
 Gre
 at food\, great people\, great curling\, great fun!&nbsp\;
 
 Friday nig
 ht features “Endless Appetizers”
 Saturday Night \"Surf and Turf\" (S
 teak and Shrimp)&nbsp\; Dinner
 Friday Night Crokinole Tournament
 Satur
 day Night Leads Competition
 Rink Fee: &nbsp\;$440.00 per/team
 
 If yo
 u want to join in the fun but don't have a full team (or any team) fill ou
 t the form here and we'll do our best to match you up with teammates (no p
 romises but we'll try). New curlers\, this is a great way to get to know y
 our club members and get in some GREAT curling! https://forms.gle/V3fAejY7
 iVZ1jqqH8
 
 **IMPORTANT - PLEASE READ** &nbsp\;All registrants will ini
 tially be placed on a Waitlist. &nbsp\;Once registration closes\, if there
  are more than (20) teams\, a lottery will be conducted to determine the t
 eams that have been selected. &nbsp\;If your team is selected\, you will r
 eceive an email to make payment.
LOCATION:133 McKinley Street /  South Plainfield\, NJ 07080
DTSTART:20260305T050000Z
DTEND:20260308T220000Z
DTSTAMP:20220113T065317Z
ORGANIZER;CN=Plainfield Curling Club:MAILTO:do-not-reply@njcurling.org
GEO:40.555624;-74.412555
X-APPLE-STRUCTURED-LOCATION;VALUE=URI;X-ADDRESS=133 McKinley Street /  Sout
 h Plainfield\, NJ 07080;X-APPLE-RADIUS=72;X-TITLE=Plainfield Curling Club:
 40.555624;-74.412555
END:VEVENT
END:VCALENDAR