BEGIN:VCALENDAR
VERSION:2.0
PRODID:Events Booking
BEGIN:VEVENT
UID:69e93adb5468c
SUMMARY:The Founder's Bonspiel - 2025
DESCRIPTION:
 KICK OFF THE CURLING SEASON RIGHT!
 The Founders' Bonspiel\
 , which pays tribute to the founders of the Plainfield Curling Club (found
 ed 1963)\, is a lively weekend of curling\, food\, and fun!
 
 Event Det
 ails:
 
 Event Dates: November 6th - 9th\, 2025
 Registration Opens: Se
 ptember 15th\, 2025\, &nbsp\;Closes: October&nbsp\;5th\, 2025
 Entry Fee:
  $340.00 per/team
 16 Teams &nbsp\;¤ &nbsp\;3 Games Guaranteed &nbsp\;¤
 .&nbsp\;Open Format
 
 &nbsp\;Contact: founders@njcurling.org
 &nbsp\;
 
 Registration Details:
 
 Full Team Entry is Required\, no TBDs. If you
  don't have a team and would like us to match you up with others please fi
 ll out this form and we'll do our best to get you together:&nbsp\; &nbsp\;
  &nbsp\; &nbsp\; &nbsp\; &nbsp\; &nbsp\;&nbsp\;https://forms.gle/uDzfKabv9
 ths2MdN8
 Payment in Full is Required to Reserve a Spot
 
 (Payment req
 uest will be sent after the lottery)
 
 
 Individual curlers cannot be 
 entered on more than one team
 We'll only be accepting online entries and
  payment for this event
 
 &nbsp\;&nbsp\;
 **IMPORTANT - PLEASE READ** 
 &nbsp\;All registrants will initially be placed on a Waitlist. &nbsp\;Once
  registration closes\, if there are more than (16) teams\, a lottery will 
 be conducted to determine the teams that have been selected. &nbsp\;If you
 r team is selected\, you will receive an email to make payment.
 
LOCATION:133 McKinley Street /  South Plainfield\, NJ 07080
DTSTART:20251106T050000Z
DTEND:20251109T050000Z
DTSTAMP:20260422T171715Z
ORGANIZER;CN=Plainfield Curling Club:MAILTO:do-not-reply@njcurling.org
GEO:40.555624;-74.412555
X-APPLE-STRUCTURED-LOCATION;VALUE=URI;X-ADDRESS=133 McKinley Street /  Sout
 h Plainfield\, NJ 07080;X-APPLE-RADIUS=72;X-TITLE=Plainfield Curling Club:
 40.555624;-74.412555
END:VEVENT
END:VCALENDAR