BEGIN:VCALENDAR
VERSION:2.0
PRODID:Events Booking
BEGIN:VEVENT
UID:69e9452dc528a
SUMMARY:The Turnpike Challenge - 2025 Exit 10 Edition
DESCRIPTION:Who:&nbsp\;Any 5 and Under Curler!
 Where: Plainfield Curling 
 Club\, NJ
 When: Saturday April 12th\, 2025
  Time: 9:00 am – 3:30 pm 
 First Draw 9:30 am / Second Draw 1:00 pm&nbsp\; &nbsp\; &nbsp\; &nbsp\; &n
 bsp\; &nbsp\; &nbsp\; &nbsp\; &nbsp\; &nbsp\;
 ENTRY FEE: $35.00 per/play
 er
 Scoring Format:&nbsp\; MACA scoring\, Rotate Positions every two (2) 
 ends
 BAGEL BREAKFAST and LUNCH INCLUDED
 &nbsp\;
 **Please Read**. Reg
 istration will consist of eight (8) players from each club.&nbsp\; When re
 gistering\, please select the club you are playing for in the registration
  form.&nbsp\; Once 8 players from each club register\, your club will no l
 onger be displayed.&nbsp\; Once all 16 spots are filled up\, you can add y
 our name to the waitlist.
LOCATION:133 McKinley Street /  South Plainfield\, NJ 07080
DTSTART:20250412T120000Z
DTEND:20250412T200000Z
DTSTAMP:20240401T184445Z
ORGANIZER;CN=Plainfield Curling Club:MAILTO:do-not-reply@njcurling.org
GEO:40.555624;-74.412555
X-APPLE-STRUCTURED-LOCATION;VALUE=URI;X-ADDRESS=133 McKinley Street /  Sout
 h Plainfield\, NJ 07080;X-APPLE-RADIUS=72;X-TITLE=Plainfield Curling Club:
 40.555624;-74.412555
END:VEVENT
END:VCALENDAR