BEGIN:VCALENDAR
VERSION:2.0
PRODID:Events Booking
BEGIN:VEVENT
UID:69e9511966620
SUMMARY:PCC Junior Bonspiel - 2025
DESCRIPTION:
LOCATION:133 McKinley Street /  South Plainfield\, NJ 07080
DTSTART:20250118T130000Z
DTEND:20250118T233000Z
DTSTAMP:20240730T044310Z
ORGANIZER;CN=Plainfield Curling Club:MAILTO:do-not-reply@njcurling.org
GEO:40.555624;-74.412555
X-APPLE-STRUCTURED-LOCATION;VALUE=URI;X-ADDRESS=133 McKinley Street /  Sout
 h Plainfield\, NJ 07080;X-APPLE-RADIUS=72;X-TITLE=Plainfield Curling Club:
 40.555624;-74.412555
END:VEVENT
END:VCALENDAR