BEGIN:VCALENDAR
VERSION:2.0
PRODID:Events Booking
BEGIN:VEVENT
UID:69e94538a6f4b
SUMMARY:The P.C.C. Stone Bonspiel - 2025
DESCRIPTION:PCC’S PREMIER MEN’S SPIEL&nbsp\;
 Our annual men’s cashs
 piel\, named&nbsp\;after Peter C. Christofferson\, the father of one of th
 e club’s founding members\, Ken Christofferson.
 &nbsp\;
 
 Friday ni
 ght features “Endless Appetizers”
 Saturday Night Steak Dinner
 Lead
 s Competition
 Rink Fee: &nbsp\;$440.00 per/team
 
 &nbsp\;
 **IMPORTA
 NT - PLEASE READ** &nbsp\;All registrants will initially be placed on a Wa
 itlist. &nbsp\;Once registration closes\, if there are more than (20) team
 s\, a lottery will be conducted to determine the teams that have been sele
 cted. &nbsp\;If your team is selected\, you will receive an email to make 
 payment.
LOCATION:133 McKinley Street /  South Plainfield\, NJ 07080
DTSTART:20250306T050000Z
DTEND:20250310T035500Z
DTSTAMP:20220113T065317Z
ORGANIZER;CN=Plainfield Curling Club:MAILTO:do-not-reply@njcurling.org
GEO:40.555624;-74.412555
X-APPLE-STRUCTURED-LOCATION;VALUE=URI;X-ADDRESS=133 McKinley Street /  Sout
 h Plainfield\, NJ 07080;X-APPLE-RADIUS=72;X-TITLE=Plainfield Curling Club:
 40.555624;-74.412555
END:VEVENT
END:VCALENDAR