BEGIN:VCALENDAR
VERSION:2.0
PRODID:Events Booking
BEGIN:VEVENT
UID:69e9455407bb6
SUMMARY:Robbie Burns Thrifty Bonspiel - 2025
DESCRIPTION:**IMPORTANT - PLEASE READ** &nbsp\;All registrants will initial
 ly be placed on a Waitlist. &nbsp\;Once registration closes\, if there are
  more than (20) teams\, a lottery will be conducted to determine the teams
  that have been selected. &nbsp\;If your team is selected\, you will recei
 ve an email to make payment.
 If you have any questions\, please send an 
 email to thrifty@njcurling.org
 &nbsp\;
LOCATION:133 McKinley Street /  South Plainfield\, NJ 07080
DTSTART:20250123T050000Z
DTEND:20250127T045500Z
DTSTAMP:20211204T180954Z
ORGANIZER;CN=Plainfield Curling Club:MAILTO:do-not-reply@njcurling.org
GEO:40.555624;-74.412555
X-APPLE-STRUCTURED-LOCATION;VALUE=URI;X-ADDRESS=133 McKinley Street /  Sout
 h Plainfield\, NJ 07080;X-APPLE-RADIUS=72;X-TITLE=Plainfield Curling Club:
 40.555624;-74.412555
END:VEVENT
END:VCALENDAR