BEGIN:VCALENDAR
VERSION:2.0
PRODID:Events Booking
BEGIN:VEVENT
UID:69e9512db6af5
SUMMARY:The Turnpike Challenge - Exit 10 Edition (Pinelands Team)
DESCRIPTION:Who: any 5 and under curler!
 Where: Plainfield Curling Club\,
  NJ
 When: Saturday May 4th Time: 9:30a – 4p First draw 10:00a Second d
 raw 1:30p
 BAGEL BREAKFAST and LUNCH INCLUDED&nbsp\;&nbsp\;&nbsp\;&nbsp\;
 &nbsp\;&nbsp\;&nbsp\;&nbsp\;&nbsp\;&nbsp\;&nbsp\;&nbsp\;&nbsp\;&nbsp\;&nbs
 p\;&nbsp\;&nbsp\;&nbsp\;&nbsp\;&nbsp\;&nbsp\;&nbsp\;&nbsp\;COST: $35&nbsp\
 ;each
 MACA scoring\, rotate every 2 ends
 &nbsp\;
 Register NOW&nbsp\;
 on NJCurling.org\, registration will stop at 16 (8 from each club) but ple
 ase add yourself to the waitlist!
LOCATION:133 McKinley Street /  South Plainfield\, NJ 07080
DTSTART:20240504T133000Z
DTEND:20240504T200000Z
DTSTAMP:20240401T184445Z
ORGANIZER;CN=Plainfield Curling Club:MAILTO:do-not-reply@njcurling.org
GEO:40.555624;-74.412555
X-APPLE-STRUCTURED-LOCATION;VALUE=URI;X-ADDRESS=133 McKinley Street /  Sout
 h Plainfield\, NJ 07080;X-APPLE-RADIUS=72;X-TITLE=Plainfield Curling Club:
 40.555624;-74.412555
END:VEVENT
END:VCALENDAR