BEGIN:VCALENDAR
VERSION:2.0
PRODID:Events Booking
BEGIN:VEVENT
UID:69e9512de154d
SUMMARY:The Founder's Bonspiel - 2023
DESCRIPTION:&nbsp\;
 
 &nbsp\;
 &nbsp\;
 &nbsp\;
 **IMPORTANT - PLEASE
  READ** &nbsp\;All registrants will initially be placed on a Waitlist. &nb
 sp\;Once registration closes\, if there are more than (16) teams\, a lotte
 ry will be conducted to determine the teams that have been selected. &nbsp
 \;If your team is selected\, you will receive an email to make payment.
LOCATION:133 McKinley Street /  South Plainfield\, NJ 07080
DTSTART:20231102T040000Z
DTEND:20231106T050000Z
DTSTAMP:20260422T185229Z
ORGANIZER;CN=Plainfield Curling Club:MAILTO:do-not-reply@njcurling.org
GEO:40.555624;-74.412555
X-APPLE-STRUCTURED-LOCATION;VALUE=URI;X-ADDRESS=133 McKinley Street /  Sout
 h Plainfield\, NJ 07080;X-APPLE-RADIUS=72;X-TITLE=Plainfield Curling Club:
 40.555624;-74.412555
END:VEVENT
END:VCALENDAR