BEGIN:VCALENDAR
VERSION:2.0
PRODID:Events Booking
BEGIN:VEVENT
UID:69e950da7ca4e
SUMMARY:Keg Curling
DESCRIPTION:
LOCATION:133 McKinley Street /  South Plainfield\, NJ 07080
DTSTART:20230429T160000Z
DTEND:20230429T210000Z
DTSTAMP:20221204T221223Z
ORGANIZER;CN=Plainfield Curling Club:MAILTO:do-not-reply@njcurling.org
GEO:40.555624;-74.412555
X-APPLE-STRUCTURED-LOCATION;VALUE=URI;X-ADDRESS=133 McKinley Street /  Sout
 h Plainfield\, NJ 07080;X-APPLE-RADIUS=72;X-TITLE=Plainfield Curling Club:
 40.555624;-74.412555
END:VEVENT
END:VCALENDAR