BEGIN:VCALENDAR
VERSION:2.0
PRODID:Events Booking
BEGIN:VEVENT
UID:69e951193ff87
SUMMARY:Turnpike Challenge 2022/2023 - Plainfield Team
DESCRIPTION:Turnpike Challenge
 Plainfield Curling Club vs Pineland Curlin
 g Club
 &nbsp\;
 This one day friendly is a competition for curlers with
  3 years or less curling experience.&nbsp\; This is a two-leg event with t
 he first leg being contested at Plainfield CC and the second leg contested
  at Pinelands CC.
 Everyone player will get a chance to skip as positions
  are rotated.&nbsp\; This competition will follow the MACA scoring method.
 &nbsp\; There will be two games played each day
LOCATION:133 McKinley Street /  South Plainfield\, NJ 07080
DTSTART:20221211T173000Z
DTEND:20221211T213000Z
DTSTAMP:20221119T222320Z
ORGANIZER;CN=Plainfield Curling Club:MAILTO:do-not-reply@njcurling.org
GEO:40.555624;-74.412555
X-APPLE-STRUCTURED-LOCATION;VALUE=URI;X-ADDRESS=133 McKinley Street /  Sout
 h Plainfield\, NJ 07080;X-APPLE-RADIUS=72;X-TITLE=Plainfield Curling Club:
 40.555624;-74.412555
END:VEVENT
END:VCALENDAR